BEGIN:VCALENDAR
VERSION:2.0
PRODID:spatie/icalendar-generator
BEGIN:VTIMEZONE
TZID:UTC
BEGIN:STANDARD
DTSTART:20250726T102002
TZOFFSETFROM:+0000
TZOFFSETTO:+0000
END:STANDARD
END:VTIMEZONE
BEGIN:VEVENT
UID:69e8a0d2356c2
DTSTAMP:20260422T102002Z
SUMMARY:Überblicksführung \"La Vie Moderne – Grafiken von Manet bis Pic
 asso\"
DTSTART:20260523T133000Z
DTEND:20260523T133000Z
END:VEVENT
END:VCALENDAR