BEGIN:VCALENDAR
VERSION:2.0
PRODID:spatie/icalendar-generator
BEGIN:VTIMEZONE
TZID:UTC
BEGIN:STANDARD
DTSTART:20250725T125449
TZOFFSETFROM:+0000
TZOFFSETTO:+0000
END:STANDARD
END:VTIMEZONE
BEGIN:VEVENT
UID:69e77399a1039
DTSTAMP:20260421T125449Z
SUMMARY:Überblicksführung \"La Vie Moderne – Grafiken von Manet bis Pic
 asso\"
DTSTART:20260514T133000Z
DTEND:20260514T133000Z
END:VEVENT
END:VCALENDAR