BEGIN:VCALENDAR
VERSION:2.0
PRODID:spatie/icalendar-generator
BEGIN:VTIMEZONE
TZID:UTC
BEGIN:STANDARD
DTSTART:20250725T123039
TZOFFSETFROM:+0000
TZOFFSETTO:+0000
END:STANDARD
END:VTIMEZONE
BEGIN:VEVENT
UID:69e76defb074c
DTSTAMP:20260421T123039Z
SUMMARY:Student Spotlight Tour. Führung mit Studierenden der Universität 
 Heidelberg \"La Vie Moderne – Grafiken von Manet bis Picasso\"
DTSTART:20260513T143000Z
DTEND:20260513T143000Z
END:VEVENT
END:VCALENDAR