BEGIN:VCALENDAR
VERSION:2.0
PRODID:spatie/icalendar-generator
BEGIN:VTIMEZONE
TZID:UTC
BEGIN:STANDARD
DTSTART:20250726T101958
TZOFFSETFROM:+0000
TZOFFSETTO:+0000
END:STANDARD
END:VTIMEZONE
BEGIN:VEVENT
UID:69e8a0ce03c33
DTSTAMP:20260422T101958Z
SUMMARY:Überblicksführung \"La Vie Moderne – Grafiken von Manet bis Pic
 asso\"
DTSTART:20260426T133000Z
DTEND:20260426T133000Z
END:VEVENT
END:VCALENDAR