BEGIN:VCALENDAR
VERSION:2.0
PRODID:spatie/icalendar-generator
BEGIN:VTIMEZONE
TZID:UTC
BEGIN:STANDARD
DTSTART:20250724T125336
TZOFFSETFROM:+0000
TZOFFSETTO:+0000
END:STANDARD
END:VTIMEZONE
BEGIN:VEVENT
UID:69e621d007afa
DTSTAMP:20260420T125336Z
SUMMARY:Führung in Einfacher Sprache \"La Vie Moderne – Grafiken von Man
 et bis Picasso\"
DTSTART:20260424T143000Z
DTEND:20260424T143000Z
END:VEVENT
END:VCALENDAR