BEGIN:VCALENDAR
VERSION:2.0
PRODID:spatie/icalendar-generator
BEGIN:VTIMEZONE
TZID:UTC
BEGIN:STANDARD
DTSTART:20250726T124703
TZOFFSETFROM:+0000
TZOFFSETTO:+0000
END:STANDARD
END:VTIMEZONE
BEGIN:VEVENT
UID:69e8c347b3113
DTSTAMP:20260422T124703Z
SUMMARY:Kuratorinnenführung \"Kaari Upson – Dollhouse. Eine Retrospektiv
 e\" mit Alessia Tardivo
DTSTART:20260531T133000Z
DTEND:20260531T133000Z
END:VEVENT
END:VCALENDAR