BEGIN:VCALENDAR
VERSION:2.0
PRODID:spatie/icalendar-generator
BEGIN:VTIMEZONE
TZID:UTC
BEGIN:STANDARD
DTSTART:20250726T061054
TZOFFSETFROM:+0000
TZOFFSETTO:+0000
END:STANDARD
END:VTIMEZONE
BEGIN:VEVENT
UID:69e8666e37d05
DTSTAMP:20260422T061054Z
SUMMARY:Überblicksführung: Kaari Upson – Dollhouse
DTSTART:20260527T143000Z
DTEND:20260527T143000Z
END:VEVENT
END:VCALENDAR