BEGIN:VCALENDAR
VERSION:2.0
PRODID:spatie/icalendar-generator
BEGIN:VTIMEZONE
TZID:UTC
BEGIN:STANDARD
DTSTART:20250726T024842
TZOFFSETFROM:+0000
TZOFFSETTO:+0000
END:STANDARD
END:VTIMEZONE
BEGIN:VEVENT
UID:69e8370ad9177
DTSTAMP:20260422T024842Z
SUMMARY:Überblicksführung: Kaari Upson – Dollhouse
DTSTART:20260524T100000Z
DTEND:20260524T100000Z
END:VEVENT
END:VCALENDAR