BEGIN:VCALENDAR
VERSION:2.0
PRODID:spatie/icalendar-generator
BEGIN:VTIMEZONE
TZID:UTC
BEGIN:STANDARD
DTSTART:20250725T175500
TZOFFSETFROM:+0000
TZOFFSETTO:+0000
END:STANDARD
END:VTIMEZONE
BEGIN:VEVENT
UID:69e7b9f49c225
DTSTAMP:20260421T175500Z
SUMMARY:Überblicksführung: Kaari Upson – Dollhouse
DTSTART:20260517T133000Z
DTEND:20260517T133000Z
END:VEVENT
END:VCALENDAR