BEGIN:VCALENDAR
VERSION:2.0
PRODID:spatie/icalendar-generator
BEGIN:VTIMEZONE
TZID:UTC
BEGIN:STANDARD
DTSTART:20250725T130538
TZOFFSETFROM:+0000
TZOFFSETTO:+0000
END:STANDARD
END:VTIMEZONE
BEGIN:VEVENT
UID:69e776220bfc6
DTSTAMP:20260421T130538Z
SUMMARY:Überblicksführung: Kaari Upson – Dollhouse
DTSTART:20260514T100000Z
DTEND:20260514T100000Z
END:VEVENT
END:VCALENDAR