BEGIN:VCALENDAR
VERSION:2.0
PRODID:spatie/icalendar-generator
BEGIN:VTIMEZONE
TZID:UTC
BEGIN:STANDARD
DTSTART:20250725T061205
TZOFFSETFROM:+0000
TZOFFSETTO:+0000
END:STANDARD
END:VTIMEZONE
BEGIN:VEVENT
UID:69e715354a28a
DTSTAMP:20260421T061205Z
SUMMARY:Überblicksführung: Kaari Upson – Dollhouse
DTSTART:20260510T133000Z
DTEND:20260510T133000Z
END:VEVENT
END:VCALENDAR