BEGIN:VCALENDAR
VERSION:2.0
PRODID:spatie/icalendar-generator
BEGIN:VTIMEZONE
TZID:UTC
BEGIN:STANDARD
DTSTART:20250724T133322
TZOFFSETFROM:+0000
TZOFFSETTO:+0000
END:STANDARD
END:VTIMEZONE
BEGIN:VEVENT
UID:69e62b2255bbb
DTSTAMP:20260420T133322Z
SUMMARY:Überblicksführung: Kaari Upson – Dollhouse
DTSTART:20260506T163000Z
DTEND:20260506T163000Z
END:VEVENT
END:VCALENDAR