BEGIN:VCALENDAR
VERSION:2.0
PRODID:spatie/icalendar-generator
BEGIN:VTIMEZONE
TZID:UTC
BEGIN:STANDARD
DTSTART:20250724T070449
TZOFFSETFROM:+0000
TZOFFSETTO:+0000
END:STANDARD
END:VTIMEZONE
BEGIN:VEVENT
UID:69e5d0111afbe
DTSTAMP:20260420T070449Z
SUMMARY:Überblicksführung: Kaari Upson – Dollhouse
DTSTART:20260503T133000Z
DTEND:20260503T133000Z
END:VEVENT
END:VCALENDAR