BEGIN:VCALENDAR
VERSION:2.0
PRODID:spatie/icalendar-generator
BEGIN:VTIMEZONE
TZID:UTC
BEGIN:STANDARD
DTSTART:20250725T160306
TZOFFSETFROM:+0000
TZOFFSETTO:+0000
END:STANDARD
END:VTIMEZONE
BEGIN:VEVENT
UID:69e79fbab2ca5
DTSTAMP:20260421T160306Z
SUMMARY:Guckloch Kunst
DTSTART:20260516T133000Z
DTEND:20260516T133000Z
END:VEVENT
END:VCALENDAR