BEGIN:VCALENDAR
VERSION:2.0
PRODID:spatie/icalendar-generator
BEGIN:VTIMEZONE
TZID:UTC
BEGIN:STANDARD
DTSTART:20250729T042630
TZOFFSETFROM:+0000
TZOFFSETTO:+0000
END:STANDARD
END:VTIMEZONE
BEGIN:VEVENT
UID:69ec42764f0e8
DTSTAMP:20260425T042630Z
SUMMARY:Meditieren im Museum. Werkbetrachtung und geführte Meditation mit 
 Kunstvermittlerin und Entspannungstrainerin Nina Pfister
DTSTART:20260628T100000Z
DTEND:20260628T100000Z
END:VEVENT
END:VCALENDAR