BEGIN:VCALENDAR
VERSION:2.0
PRODID:spatie/icalendar-generator
BEGIN:VTIMEZONE
TZID:UTC
BEGIN:STANDARD
DTSTART:20250725T174150
TZOFFSETFROM:+0000
TZOFFSETTO:+0000
END:STANDARD
END:VTIMEZONE
BEGIN:VEVENT
UID:69e7b6de5b990
DTSTAMP:20260421T174150Z
SUMMARY:Little Mannheim: Benedikt Hild
DTSTART:20260517T130000Z
DTEND:20260517T160000Z
END:VEVENT
END:VCALENDAR