BEGIN:VCALENDAR
VERSION:2.0
PRODID:spatie/icalendar-generator
BEGIN:VTIMEZONE
TZID:UTC
BEGIN:STANDARD
DTSTART:20250724T052110
TZOFFSETFROM:+0000
TZOFFSETTO:+0000
END:STANDARD
END:VTIMEZONE
BEGIN:VEVENT
UID:69e5b7c6c747b
DTSTAMP:20260420T052110Z
SUMMARY:Little Mannheim: Benedikt Hild
DTSTART:20260503T130000Z
DTEND:20260503T160000Z
END:VEVENT
END:VCALENDAR