BEGIN:VCALENDAR
VERSION:2.0
PRODID:spatie/icalendar-generator
BEGIN:VTIMEZONE
TZID:UTC
BEGIN:STANDARD
DTSTART:20250728T064755
TZOFFSETFROM:+0000
TZOFFSETTO:+0000
END:STANDARD
END:VTIMEZONE
BEGIN:VEVENT
UID:69eb121b810ae
DTSTAMP:20260424T064755Z
SUMMARY:Maxi Gstettenbauer - KOMPLETT ABSURD - Preview
DTSTART:20260917T180000Z
DTEND:20260917T180000Z
END:VEVENT
END:VCALENDAR