BEGIN:VCALENDAR
VERSION:2.0
PRODID:spatie/icalendar-generator
BEGIN:VTIMEZONE
TZID:UTC
BEGIN:STANDARD
DTSTART:20250724T042924
TZOFFSETFROM:+0000
TZOFFSETTO:+0000
END:STANDARD
END:VTIMEZONE
BEGIN:VEVENT
UID:69e5aba4b9dd3
DTSTAMP:20260420T042924Z
SUMMARY:Stefan Danziger - Mittel und Wege
DTSTART:20270219T190000Z
DTEND:20270219T190000Z
END:VEVENT
END:VCALENDAR