BEGIN:VCALENDAR
VERSION:2.0
PRODID:spatie/icalendar-generator
BEGIN:VTIMEZONE
TZID:UTC
BEGIN:STANDARD
DTSTART:20250727T225556
TZOFFSETFROM:+0000
TZOFFSETTO:+0000
END:STANDARD
END:VTIMEZONE
BEGIN:VEVENT
UID:69eaa37ca66b2
DTSTAMP:20260423T225556Z
SUMMARY:Die ZWEIfler - Sehr gerne
DTSTART:20260925T180000Z
DTEND:20260925T180000Z
END:VEVENT
END:VCALENDAR