BEGIN:VCALENDAR
VERSION:2.0
PRODID:spatie/icalendar-generator
BEGIN:VTIMEZONE
TZID:UTC
BEGIN:STANDARD
DTSTART:20250727T225558
TZOFFSETFROM:+0000
TZOFFSETTO:+0000
END:STANDARD
END:VTIMEZONE
BEGIN:VEVENT
UID:69eaa37e28221
DTSTAMP:20260423T225558Z
SUMMARY:Die ZWEIfler - Sehr gerne
DTSTART:20260924T180000Z
DTEND:20260924T180000Z
END:VEVENT
END:VCALENDAR