BEGIN:VCALENDAR
VERSION:2.0
PRODID:spatie/icalendar-generator
BEGIN:VTIMEZONE
TZID:UTC
BEGIN:STANDARD
DTSTART:20250728T002717
TZOFFSETFROM:+0000
TZOFFSETTO:+0000
END:STANDARD
END:VTIMEZONE
BEGIN:VEVENT
UID:69eab8e5bf711
DTSTAMP:20260424T002717Z
SUMMARY:Die ZWEIfler - Sehr gerne
DTSTART:20260923T180000Z
DTEND:20260923T180000Z
END:VEVENT
END:VCALENDAR