BEGIN:VCALENDAR
VERSION:2.0
PRODID:spatie/icalendar-generator
BEGIN:VTIMEZONE
TZID:UTC
BEGIN:STANDARD
DTSTART:20250724T000703
TZOFFSETFROM:+0000
TZOFFSETTO:+0000
END:STANDARD
END:VTIMEZONE
BEGIN:VEVENT
UID:69e56e27e8c61
DTSTAMP:20260420T000703Z
SUMMARY:Josefin Lössl - \"POE-tisches Gruseltheater\" - Gruselgeschichten 
 zu Walpugisnacht
DTSTART:20260430T180000Z
DTEND:20260430T180000Z
END:VEVENT
END:VCALENDAR