BEGIN:VCALENDAR
VERSION:2.0
PRODID:spatie/icalendar-generator
BEGIN:VTIMEZONE
TZID:UTC
BEGIN:STANDARD
DTSTART:20250724T230515
TZOFFSETFROM:+0000
TZOFFSETTO:+0000
END:STANDARD
END:VTIMEZONE
BEGIN:VEVENT
UID:69e6b12b8b923
DTSTAMP:20260420T230515Z
SUMMARY:Rena Schwarz - Jung? Attraktiv …und übrig 2.0
DTSTART:20260508T180000Z
DTEND:20260508T180000Z
END:VEVENT
END:VCALENDAR