BEGIN:VCALENDAR
VERSION:2.0
PRODID:spatie/icalendar-generator
BEGIN:VTIMEZONE
TZID:UTC
BEGIN:STANDARD
DTSTART:20250724T104806
TZOFFSETFROM:+0000
TZOFFSETTO:+0000
END:STANDARD
END:VTIMEZONE
BEGIN:VEVENT
UID:69e60466b6a26
DTSTAMP:20260420T104806Z
SUMMARY:Loriot – \"Die Ente bleibt draußen!\"
DTSTART:20270205T133000Z
DTEND:20270205T133000Z
END:VEVENT
END:VCALENDAR