BEGIN:VCALENDAR
VERSION:2.0
PRODID:spatie/icalendar-generator
BEGIN:VTIMEZONE
TZID:UTC
BEGIN:STANDARD
DTSTART:20250726T171428
TZOFFSETFROM:+0000
TZOFFSETTO:+0000
END:STANDARD
END:VTIMEZONE
BEGIN:VEVENT
UID:69e901f4cc99d
DTSTAMP:20260422T171428Z
SUMMARY:Kabarett Dusche - Wasserturm auf D6
DTSTART:20260606T180000Z
DTEND:20260606T180000Z
END:VEVENT
END:VCALENDAR