BEGIN:VCALENDAR
VERSION:2.0
PRODID:spatie/icalendar-generator
BEGIN:VTIMEZONE
TZID:UTC
BEGIN:STANDARD
DTSTART:20250726T160526
TZOFFSETFROM:+0000
TZOFFSETTO:+0000
END:STANDARD
END:VTIMEZONE
BEGIN:VEVENT
UID:69e8f1c6e6934
DTSTAMP:20260422T160526Z
SUMMARY:Kabarett Dusche - Wasserturm auf D6
DTSTART:20260605T180000Z
DTEND:20260605T180000Z
END:VEVENT
END:VCALENDAR