BEGIN:VCALENDAR
VERSION:2.0
PRODID:spatie/icalendar-generator
BEGIN:VTIMEZONE
TZID:UTC
BEGIN:STANDARD
DTSTART:20250726T150528
TZOFFSETFROM:+0000
TZOFFSETTO:+0000
END:STANDARD
END:VTIMEZONE
BEGIN:VEVENT
UID:69e8e3b8494a9
DTSTAMP:20260422T150528Z
SUMMARY:Kabarett Dusche - Wasserturm auf D6
DTSTART:20260523T180000Z
DTEND:20260523T180000Z
END:VEVENT
END:VCALENDAR