BEGIN:VCALENDAR
VERSION:2.0
PRODID:spatie/icalendar-generator
BEGIN:VTIMEZONE
TZID:UTC
BEGIN:STANDARD
DTSTART:20250726T011301
TZOFFSETFROM:+0000
TZOFFSETTO:+0000
END:STANDARD
END:VTIMEZONE
BEGIN:VEVENT
UID:69e8209d47f7a
DTSTAMP:20260422T011301Z
SUMMARY:Kabarett Dusche - Wasserturm auf D6
DTSTART:20260522T180000Z
DTEND:20260522T180000Z
END:VEVENT
END:VCALENDAR