BEGIN:VCALENDAR
VERSION:2.0
PRODID:spatie/icalendar-generator
BEGIN:VTIMEZONE
TZID:UTC
BEGIN:STANDARD
DTSTART:20250725T194636
TZOFFSETFROM:+0000
TZOFFSETTO:+0000
END:STANDARD
END:VTIMEZONE
BEGIN:VEVENT
UID:69e7d41cd8b6c
DTSTAMP:20260421T194636Z
SUMMARY:Kabarett Dusche - Wasserturm auf D6
DTSTART:20260517T180000Z
DTEND:20260517T180000Z
END:VEVENT
END:VCALENDAR