BEGIN:VCALENDAR
VERSION:2.0
PRODID:spatie/icalendar-generator
BEGIN:VTIMEZONE
TZID:UTC
BEGIN:STANDARD
DTSTART:20250724T121907
TZOFFSETFROM:+0000
TZOFFSETTO:+0000
END:STANDARD
END:VTIMEZONE
BEGIN:VEVENT
UID:69e619bb2445b
DTSTAMP:20260420T121907Z
SUMMARY:Kabarett Dusche - Wasserturm auf D6
DTSTART:20260516T180000Z
DTEND:20260516T180000Z
END:VEVENT
END:VCALENDAR