BEGIN:VCALENDAR
VERSION:2.0
PRODID:spatie/icalendar-generator
BEGIN:VTIMEZONE
TZID:UTC
BEGIN:STANDARD
DTSTART:20250724T121836
TZOFFSETFROM:+0000
TZOFFSETTO:+0000
END:STANDARD
END:VTIMEZONE
BEGIN:VEVENT
UID:69e6199c6afc2
DTSTAMP:20260420T121836Z
SUMMARY:Kabarett Dusche - Wasserturm auf D6
DTSTART:20260515T180000Z
DTEND:20260515T180000Z
END:VEVENT
END:VCALENDAR