BEGIN:VCALENDAR
VERSION:2.0
PRODID:spatie/icalendar-generator
BEGIN:VTIMEZONE
TZID:UTC
BEGIN:STANDARD
DTSTART:20250728T034215
TZOFFSETFROM:+0000
TZOFFSETTO:+0000
END:STANDARD
END:VTIMEZONE
BEGIN:VEVENT
UID:69eae6979c434
DTSTAMP:20260424T034215Z
SUMMARY:Leipziger Pfeffermühle - Urlaub vom Gehirn
DTSTART:20260920T160000Z
DTEND:20260920T160000Z
END:VEVENT
END:VCALENDAR