BEGIN:VCALENDAR
VERSION:2.0
PRODID:spatie/icalendar-generator
BEGIN:VTIMEZONE
TZID:UTC
BEGIN:STANDARD
DTSTART:20250724T055741
TZOFFSETFROM:+0000
TZOFFSETTO:+0000
END:STANDARD
END:VTIMEZONE
BEGIN:VEVENT
UID:69e5c0559095c
DTSTAMP:20260420T055741Z
SUMMARY:Mix' n Match - Der Impro Spieleabend
DTSTART:20260503T173000Z
DTEND:20260503T173000Z
END:VEVENT
END:VCALENDAR