BEGIN:VCALENDAR
VERSION:2.0
PRODID:spatie/icalendar-generator
BEGIN:VTIMEZONE
TZID:UTC
BEGIN:STANDARD
DTSTART:20250727T010722
TZOFFSETFROM:+0000
TZOFFSETTO:+0000
END:STANDARD
END:VTIMEZONE
BEGIN:VEVENT
UID:69e970cac24fb
DTSTAMP:20260423T010722Z
SUMMARY:Chaos Comedy Club
DTSTART:20260614T170000Z
DTEND:20260614T170000Z
END:VEVENT
END:VCALENDAR