BEGIN:VCALENDAR
VERSION:2.0
PRODID:spatie/icalendar-generator
BEGIN:VTIMEZONE
TZID:UTC
BEGIN:STANDARD
DTSTART:20250725T194636
TZOFFSETFROM:+0000
TZOFFSETTO:+0000
END:STANDARD
END:VTIMEZONE
BEGIN:VEVENT
UID:69e7d41c67a22
DTSTAMP:20260421T194636Z
SUMMARY:Chaos Comedy Club
DTSTART:20260517T170000Z
DTEND:20260517T170000Z
END:VEVENT
END:VCALENDAR