BEGIN:VCALENDAR
VERSION:2.0
PRODID:spatie/icalendar-generator
BEGIN:VTIMEZONE
TZID:UTC
BEGIN:STANDARD
DTSTART:20250728T021023
TZOFFSETFROM:+0000
TZOFFSETTO:+0000
END:STANDARD
END:VTIMEZONE
BEGIN:VEVENT
UID:69ead10f143a2
DTSTAMP:20260424T021023Z
SUMMARY:Standup meets Impro
DTSTART:20260723T180000Z
DTEND:20260723T180000Z
END:VEVENT
END:VCALENDAR