BEGIN:VCALENDAR
VERSION:2.0
PRODID:spatie/icalendar-generator
BEGIN:VTIMEZONE
TZID:UTC
BEGIN:STANDARD
DTSTART:20250726T074408
TZOFFSETFROM:+0000
TZOFFSETTO:+0000
END:STANDARD
END:VTIMEZONE
BEGIN:VEVENT
UID:69e87c48738a7
DTSTAMP:20260422T074408Z
SUMMARY:Standup meets Impro
DTSTART:20260528T180000Z
DTEND:20260528T180000Z
END:VEVENT
END:VCALENDAR