BEGIN:VCALENDAR
VERSION:2.0
PRODID:spatie/icalendar-generator
BEGIN:VTIMEZONE
TZID:UTC
BEGIN:STANDARD
DTSTART:20250725T075326
TZOFFSETFROM:+0000
TZOFFSETTO:+0000
END:STANDARD
END:VTIMEZONE
BEGIN:VEVENT
UID:69e72cf695390
DTSTAMP:20260421T075326Z
SUMMARY:Comedyflash - Die Stand Up Comedy Show
DTSTART:20261226T183000Z
DTEND:20261226T183000Z
END:VEVENT
END:VCALENDAR