BEGIN:VCALENDAR
VERSION:2.0
PRODID:spatie/icalendar-generator
BEGIN:VTIMEZONE
TZID:UTC
BEGIN:STANDARD
DTSTART:20250725T134753
TZOFFSETFROM:+0000
TZOFFSETTO:+0000
END:STANDARD
END:VTIMEZONE
BEGIN:VEVENT
UID:69e78009b3f85
DTSTAMP:20260421T134753Z
SUMMARY:Comedyflash - Die Stand Up Comedy Show
DTSTART:20261212T183000Z
DTEND:20261212T183000Z
END:VEVENT
END:VCALENDAR