BEGIN:VCALENDAR
VERSION:2.0
PRODID:spatie/icalendar-generator
BEGIN:VTIMEZONE
TZID:UTC
BEGIN:STANDARD
DTSTART:20250725T231813
TZOFFSETFROM:+0000
TZOFFSETTO:+0000
END:STANDARD
END:VTIMEZONE
BEGIN:VEVENT
UID:69e805b567b5c
DTSTAMP:20260421T231813Z
SUMMARY:Comedyflash - Die Stand Up Comedy Show
DTSTART:20261128T183000Z
DTEND:20261128T183000Z
END:VEVENT
END:VCALENDAR