BEGIN:VCALENDAR
VERSION:2.0
PRODID:spatie/icalendar-generator
BEGIN:VTIMEZONE
TZID:UTC
BEGIN:STANDARD
DTSTART:20250726T155351
TZOFFSETFROM:+0000
TZOFFSETTO:+0000
END:STANDARD
END:VTIMEZONE
BEGIN:VEVENT
UID:69e8ef0f0fb18
DTSTAMP:20260422T155351Z
SUMMARY:Comedyflash - Die Stand Up Comedy Show
DTSTART:20261107T183000Z
DTEND:20261107T183000Z
END:VEVENT
END:VCALENDAR