BEGIN:VCALENDAR
VERSION:2.0
PRODID:spatie/icalendar-generator
BEGIN:VTIMEZONE
TZID:UTC
BEGIN:STANDARD
DTSTART:20250727T034930
TZOFFSETFROM:+0000
TZOFFSETTO:+0000
END:STANDARD
END:VTIMEZONE
BEGIN:VEVENT
UID:69e996ca91323
DTSTAMP:20260423T034930Z
SUMMARY:Comedyflash - Die Stand Up Comedy Show
DTSTART:20261024T173000Z
DTEND:20261024T173000Z
END:VEVENT
END:VCALENDAR