BEGIN:VCALENDAR
VERSION:2.0
PRODID:spatie/icalendar-generator
BEGIN:VTIMEZONE
TZID:UTC
BEGIN:STANDARD
DTSTART:20250727T212818
TZOFFSETFROM:+0000
TZOFFSETTO:+0000
END:STANDARD
END:VTIMEZONE
BEGIN:VEVENT
UID:69ea8ef2adbd4
DTSTAMP:20260423T212818Z
SUMMARY:Comedyflash - Die Stand Up Comedy Show
DTSTART:20260926T173000Z
DTEND:20260926T173000Z
END:VEVENT
END:VCALENDAR