BEGIN:VCALENDAR
VERSION:2.0
PRODID:spatie/icalendar-generator
BEGIN:VTIMEZONE
TZID:UTC
BEGIN:STANDARD
DTSTART:20250728T101205
TZOFFSETFROM:+0000
TZOFFSETTO:+0000
END:STANDARD
END:VTIMEZONE
BEGIN:VEVENT
UID:69eb41f58f91d
DTSTAMP:20260424T101205Z
SUMMARY:Comedyflash - Die Stand Up Comedy Show
DTSTART:20260912T173000Z
DTEND:20260912T173000Z
END:VEVENT
END:VCALENDAR