BEGIN:VCALENDAR
VERSION:2.0
PRODID:spatie/icalendar-generator
BEGIN:VTIMEZONE
TZID:UTC
BEGIN:STANDARD
DTSTART:20250728T235631
TZOFFSETFROM:+0000
TZOFFSETTO:+0000
END:STANDARD
END:VTIMEZONE
BEGIN:VEVENT
UID:69ec032fcf769
DTSTAMP:20260424T235631Z
SUMMARY:Comedyflash - Die Stand Up Comedy Show
DTSTART:20260822T173000Z
DTEND:20260822T173000Z
END:VEVENT
END:VCALENDAR