BEGIN:VCALENDAR
VERSION:2.0
PRODID:spatie/icalendar-generator
BEGIN:VTIMEZONE
TZID:UTC
BEGIN:STANDARD
DTSTART:20250727T195023
TZOFFSETFROM:+0000
TZOFFSETTO:+0000
END:STANDARD
END:VTIMEZONE
BEGIN:VEVENT
UID:69ea77ff87471
DTSTAMP:20260423T195023Z
SUMMARY:Comedyflash - Die Stand Up Comedy Show
DTSTART:20260711T173000Z
DTEND:20260711T173000Z
END:VEVENT
END:VCALENDAR