BEGIN:VCALENDAR
VERSION:2.0
PRODID:spatie/icalendar-generator
BEGIN:VTIMEZONE
TZID:UTC
BEGIN:STANDARD
DTSTART:20250727T090447
TZOFFSETFROM:+0000
TZOFFSETTO:+0000
END:STANDARD
END:VTIMEZONE
BEGIN:VEVENT
UID:69e9e0af1a7da
DTSTAMP:20260423T090447Z
SUMMARY:Comedyflash - Die Stand Up Comedy Show
DTSTART:20260627T173000Z
DTEND:20260627T173000Z
END:VEVENT
END:VCALENDAR