BEGIN:VCALENDAR
VERSION:2.0
PRODID:spatie/icalendar-generator
BEGIN:VTIMEZONE
TZID:UTC
BEGIN:STANDARD
DTSTART:20250726T235055
TZOFFSETFROM:+0000
TZOFFSETTO:+0000
END:STANDARD
END:VTIMEZONE
BEGIN:VEVENT
UID:69e95edf227d7
DTSTAMP:20260422T235055Z
SUMMARY:Comedyflash - Die Stand Up Comedy Show
DTSTART:20260613T173000Z
DTEND:20260613T173000Z
END:VEVENT
END:VCALENDAR