BEGIN:VCALENDAR
VERSION:2.0
PRODID:spatie/icalendar-generator
BEGIN:VTIMEZONE
TZID:UTC
BEGIN:STANDARD
DTSTART:20250726T145218
TZOFFSETFROM:+0000
TZOFFSETTO:+0000
END:STANDARD
END:VTIMEZONE
BEGIN:VEVENT
UID:69e8e0a2c70b1
DTSTAMP:20260422T145218Z
SUMMARY:Comedyflash - Die Stand Up Comedy Show
DTSTART:20260523T173000Z
DTEND:20260523T173000Z
END:VEVENT
END:VCALENDAR